BEGIN:VCALENDAR
VERSION:2.0
PRODID:-//eventon.com NONSGML v1.0//EN
CALSCALE:GREGORIAN
METHOD:PUBLISH
BEGIN:VEVENT
UID:69e73abd442ac
DTSTAMP:20260421T085213
DTSTART:20250831T200000Z
DTEND:20250831T220000Z
TZID:Africa/Abidjan
LOCATION:
SUMMARY:Rita's Beer Bar & Hallroom - Leeds
DESCRIPTION:🎸 Get ready for an unforgettable night of live music with Joe Warren! Bringing his unique blend of original songs and powerful covers\,  Joe delivers a high-energy performance packed with passion\,  soul\,  and connection. Whether you&#8217;re a long-time fan or seeing him live for the first time\,  this is your[..]\nhttps://joewarrenmusic.com/events/ritas-beer-bar-hallroom-leeds-6/
URL:https://joewarrenmusic.com/events/ritas-beer-bar-hallroom-leeds-6/
END:VEVENT
END:VCALENDAR