BEGIN:VCALENDAR
VERSION:2.0
PRODID:-//eventon.com NONSGML v1.0//EN
CALSCALE:GREGORIAN
METHOD:PUBLISH
BEGIN:VEVENT
UID:69e9f7218e230
DTSTAMP:20260423T104033
DTSTART:20250419T163000Z
DTEND:20250419T183000Z
TZID:Etc/Greenwich
LOCATION:
SUMMARY:The Temple - Doncaster
DESCRIPTION:🎸 Get ready for an unforgettable night of live music with Joe Warren! Bringing his unique blend of original songs and powerful covers\,  Joe delivers a high-energy performance packed with passion\,  soul\,  and connection. Whether you&#8217;re a long-time fan or seeing him live for the first time\,  this is your[..]\nhttps://joewarrenmusic.com/events/the-temple-doncaster-190425/
URL:https://joewarrenmusic.com/events/the-temple-doncaster-190425/
END:VEVENT
END:VCALENDAR